BEGIN:VCALENDAR
VERSION:2.0
PRODID:icalendar-ruby
CALSCALE:GREGORIAN
METHOD:PUBLISH
BEGIN:VEVENT
DTSTAMP:20260424T083000Z
UID:69-292387@newsong.family
DTSTART:20260819T230000Z
DTEND:20260820T010000Z
CLASS:PUBLIC
CREATED:20260423T215622
DESCRIPTION:
LAST-MODIFIED:20260423T215622
LOCATION:Spurlock Home
SUMMARY:Men's Bible Study
URL;VALUE=URI:https://www.newsong.family/events/mens-bible-study/2026-08-19
END:VEVENT
END:VCALENDAR
