BEGIN:VCALENDAR
VERSION:2.0
PRODID:icalendar-ruby
CALSCALE:GREGORIAN
METHOD:PUBLISH
BEGIN:VEVENT
DTSTAMP:20260424T100236Z
UID:69-292388@newsong.family
DTSTART:20260826T230000Z
DTEND:20260827T010000Z
CLASS:PUBLIC
CREATED:20260423T215622
DESCRIPTION:
LAST-MODIFIED:20260423T215622
LOCATION:Spurlock Home
SUMMARY:Men's Bible Study
URL;VALUE=URI:https://www.newsong.family/events/mens-bible-study/2026-08-26
END:VEVENT
END:VCALENDAR
