BEGIN:VCALENDAR
VERSION:2.0
PRODID:icalendar-ruby
CALSCALE:GREGORIAN
METHOD:PUBLISH
BEGIN:VEVENT
DTSTAMP:20260424T113744Z
UID:69-292806@newsong.family
DTSTART:20260902T230000Z
DTEND:20260903T010000Z
CLASS:PUBLIC
CREATED:20260424T072449
DESCRIPTION:
LAST-MODIFIED:20260424T072449
LOCATION:Spurlock Home
SUMMARY:Men's Bible Study
URL;VALUE=URI:https://www.newsong.family/events/mens-bible-study/2026-09-02
END:VEVENT
END:VCALENDAR
