BEGIN:VCALENDAR
VERSION:2.0
PRODID:icalendar-ruby
CALSCALE:GREGORIAN
METHOD:PUBLISH
BEGIN:VEVENT
DTSTAMP:20260424T131620Z
UID:69-292807@newsong.family
DTSTART:20260909T230000Z
DTEND:20260910T010000Z
CLASS:PUBLIC
CREATED:20260424T072449
DESCRIPTION:
LAST-MODIFIED:20260424T072449
LOCATION:Spurlock Home
SUMMARY:Men's Bible Study
URL;VALUE=URI:https://www.newsong.family/events/mens-bible-study/2026-09-09
END:VEVENT
END:VCALENDAR
