BEGIN:VCALENDAR
VERSION:2.0
PRODID:icalendar-ruby
CALSCALE:GREGORIAN
METHOD:PUBLISH
BEGIN:VEVENT
DTSTAMP:20260424T150153Z
UID:69-293225@newsong.family
DTSTART:20260916T230000Z
DTEND:20260917T010000Z
CLASS:PUBLIC
CREATED:20260424T101840
DESCRIPTION:
LAST-MODIFIED:20260424T101840
LOCATION:Spurlock Home
SUMMARY:Men's Bible Study
URL;VALUE=URI:https://www.newsong.family/events/mens-bible-study/2026-09-16
END:VEVENT
END:VCALENDAR
