BEGIN:VCALENDAR
VERSION:2.0
PRODID:icalendar-ruby
CALSCALE:GREGORIAN
METHOD:PUBLISH
BEGIN:VEVENT
DTSTAMP:20260424T180557Z
UID:69-293644@newsong.family
DTSTART:20260930T230000Z
DTEND:20261001T010000Z
CLASS:PUBLIC
CREATED:20260424T130713
DESCRIPTION:
LAST-MODIFIED:20260424T130713
LOCATION:Spurlock Home
SUMMARY:Men's Bible Study
URL;VALUE=URI:https://www.newsong.family/events/mens-bible-study/2026-09-30
END:VEVENT
END:VCALENDAR
