BEGIN:VCALENDAR
VERSION:2.0
PRODID:icalendar-ruby
CALSCALE:GREGORIAN
METHOD:PUBLISH
BEGIN:VEVENT
DTSTAMP:20260424T211405Z
UID:69-294063@newsong.family
DTSTART:20261014T230000Z
DTEND:20261015T010000Z
CLASS:PUBLIC
CREATED:20260424T155355
DESCRIPTION:
LAST-MODIFIED:20260424T155355
LOCATION:Spurlock Home
SUMMARY:Men's Bible Study
URL;VALUE=URI:https://www.newsong.family/events/mens-bible-study/2026-10-14
END:VEVENT
END:VCALENDAR
