BEGIN:VCALENDAR
VERSION:2.0
PRODID:icalendar-ruby
CALSCALE:GREGORIAN
METHOD:PUBLISH
BEGIN:VEVENT
DTSTAMP:20260425T002730Z
UID:69-294482@newsong.family
DTSTART:20261028T230000Z
DTEND:20261029T010000Z
CLASS:PUBLIC
CREATED:20260424T184143
DESCRIPTION:
LAST-MODIFIED:20260424T184143
LOCATION:Spurlock Home
SUMMARY:Men's Bible Study
URL;VALUE=URI:https://www.newsong.family/events/mens-bible-study/2026-10-28
END:VEVENT
END:VCALENDAR
