BEGIN:VCALENDAR
VERSION:2.0
PRODID:icalendar-ruby
CALSCALE:GREGORIAN
METHOD:PUBLISH
BEGIN:VEVENT
DTSTAMP:20260425T020706Z
UID:69-294900@newsong.family
DTSTART:20261105T000000Z
DTEND:20261105T020000Z
CLASS:PUBLIC
CREATED:20260424T213010
DESCRIPTION:
LAST-MODIFIED:20260424T213010
LOCATION:Spurlock Home
SUMMARY:Men's Bible Study
URL;VALUE=URI:https://www.newsong.family/events/mens-bible-study/2026-11-04
END:VEVENT
END:VCALENDAR
