BEGIN:VCALENDAR
VERSION:2.0
PRODID:icalendar-ruby
CALSCALE:GREGORIAN
METHOD:PUBLISH
BEGIN:VEVENT
DTSTAMP:20260424T002540Z
UID:64-291905@newsong.family
DTSTART:20260703T093000Z
DTEND:20260703T103000Z
CLASS:PUBLIC
CREATED:20260423T190305
DESCRIPTION:
LAST-MODIFIED:20260423T190305
LOCATION:New Song Community Church
SUMMARY:Prayer Group
URL;VALUE=URI:https://www.newsong.family/events/prayer-group--64/2026-07-03
END:VEVENT
END:VCALENDAR
