BEGIN:VCALENDAR
VERSION:2.0
PRODID:icalendar-ruby
CALSCALE:GREGORIAN
METHOD:PUBLISH
BEGIN:VEVENT
DTSTAMP:20260424T033431Z
UID:64-292323@newsong.family
DTSTART:20260717T093000Z
DTEND:20260717T103000Z
CLASS:PUBLIC
CREATED:20260423T215621
DESCRIPTION:
LAST-MODIFIED:20260423T215621
LOCATION:New Song Community Church
SUMMARY:Prayer Group
URL;VALUE=URI:https://www.newsong.family/events/prayer-group--64/2026-07-17
END:VEVENT
END:VCALENDAR
