BEGIN:VCALENDAR
VERSION:2.0
PRODID:icalendar-ruby
CALSCALE:GREGORIAN
METHOD:PUBLISH
BEGIN:VEVENT
DTSTAMP:20260424T064407Z
UID:64-292325@newsong.family
DTSTART:20260731T093000Z
DTEND:20260731T103000Z
CLASS:PUBLIC
CREATED:20260423T215621
DESCRIPTION:
LAST-MODIFIED:20260423T215621
LOCATION:New Song Community Church
SUMMARY:Prayer Group
URL;VALUE=URI:https://www.newsong.family/events/prayer-group--64/2026-07-31
END:VEVENT
END:VCALENDAR
