BEGIN:VCALENDAR
VERSION:2.0
PRODID:icalendar-ruby
CALSCALE:GREGORIAN
METHOD:PUBLISH
BEGIN:VEVENT
DTSTAMP:20260424T081740Z
UID:64-292326@newsong.family
DTSTART:20260807T093000Z
DTEND:20260807T103000Z
CLASS:PUBLIC
CREATED:20260423T215621
DESCRIPTION:
LAST-MODIFIED:20260423T215621
LOCATION:New Song Community Church
SUMMARY:Prayer Group
URL;VALUE=URI:https://www.newsong.family/events/prayer-group--64/2026-08-07
END:VEVENT
END:VCALENDAR
