BEGIN:VCALENDAR
VERSION:2.0
PRODID:icalendar-ruby
CALSCALE:GREGORIAN
METHOD:PUBLISH
BEGIN:VEVENT
DTSTAMP:20260424T160448Z
UID:64-293164@newsong.family
DTSTART:20260911T093000Z
DTEND:20260911T103000Z
CLASS:PUBLIC
CREATED:20260424T101840
DESCRIPTION:
LAST-MODIFIED:20260424T101840
LOCATION:New Song Community Church
SUMMARY:Prayer Group
URL;VALUE=URI:https://www.newsong.family/events/prayer-group--64/2026-09-11
END:VEVENT
END:VCALENDAR
