BEGIN:VCALENDAR
VERSION:2.0
PRODID:icalendar-ruby
CALSCALE:GREGORIAN
METHOD:PUBLISH
BEGIN:VEVENT
DTSTAMP:20260424T175008Z
UID:64-293582@newsong.family
DTSTART:20260918T093000Z
DTEND:20260918T103000Z
CLASS:PUBLIC
CREATED:20260424T130713
DESCRIPTION:
LAST-MODIFIED:20260424T130713
LOCATION:New Song Community Church
SUMMARY:Prayer Group
URL;VALUE=URI:https://www.newsong.family/events/prayer-group--64/2026-09-18
END:VEVENT
END:VCALENDAR
