BEGIN:VCALENDAR
VERSION:2.0
PRODID:icalendar-ruby
CALSCALE:GREGORIAN
METHOD:PUBLISH
BEGIN:VEVENT
DTSTAMP:20260424T204951Z
UID:64-294001@newsong.family
DTSTART:20261002T093000Z
DTEND:20261002T103000Z
CLASS:PUBLIC
CREATED:20260424T155355
DESCRIPTION:
LAST-MODIFIED:20260424T155355
LOCATION:New Song Community Church
SUMMARY:Prayer Group
URL;VALUE=URI:https://www.newsong.family/events/prayer-group--64/2026-10-02
END:VEVENT
END:VCALENDAR
