BEGIN:VCALENDAR
VERSION:2.0
PRODID:icalendar-ruby
CALSCALE:GREGORIAN
METHOD:PUBLISH
BEGIN:VEVENT
DTSTAMP:20260424T234005Z
UID:64-294420@newsong.family
DTSTART:20261016T093000Z
DTEND:20261016T103000Z
CLASS:PUBLIC
CREATED:20260424T184143
DESCRIPTION:
LAST-MODIFIED:20260424T184143
LOCATION:New Song Community Church
SUMMARY:Prayer Group
URL;VALUE=URI:https://www.newsong.family/events/prayer-group--64/2026-10-16
END:VEVENT
END:VCALENDAR
