BEGIN:VCALENDAR
VERSION:2.0
PRODID:icalendar-ruby
CALSCALE:GREGORIAN
METHOD:PUBLISH
BEGIN:VEVENT
DTSTAMP:20260425T025629Z
UID:64-294839@newsong.family
DTSTART:20261030T093000Z
DTEND:20261030T103000Z
CLASS:PUBLIC
CREATED:20260424T213010
DESCRIPTION:
LAST-MODIFIED:20260424T213010
LOCATION:New Song Community Church
SUMMARY:Prayer Group
URL;VALUE=URI:https://www.newsong.family/events/prayer-group--64/2026-10-30
END:VEVENT
END:VCALENDAR
