BEGIN:VCALENDAR
VERSION:2.0
PRODID:icalendar-ruby
CALSCALE:GREGORIAN
METHOD:PUBLISH
BEGIN:VEVENT
DTSTAMP:20260424T155338Z
UID:62-293046@newsong.family
DTSTART:20260924T230000Z
DTEND:20260925T010000Z
CLASS:PUBLIC
CREATED:20260424T101840
DESCRIPTION:Please contact Ashley McGone or Mike Spurlock
LAST-MODIFIED:20260424T101840
LOCATION:Zoom Meeting
SUMMARY:Prayer Group
URL;VALUE=URI:https://www.newsong.family/events/prayer-group/2026-09-24
END:VEVENT
END:VCALENDAR
