BEGIN:VCALENDAR
VERSION:2.0
PRODID:icalendar-ruby
CALSCALE:GREGORIAN
METHOD:PUBLISH
BEGIN:VEVENT
DTSTAMP:20260424T172617Z
UID:62-293464@newsong.family
DTSTART:20261001T230000Z
DTEND:20261002T010000Z
CLASS:PUBLIC
CREATED:20260424T130713
DESCRIPTION:Please contact Ashley McGone or Mike Spurlock
LAST-MODIFIED:20260424T130713
LOCATION:Zoom Meeting
SUMMARY:Prayer Group
URL;VALUE=URI:https://www.newsong.family/events/prayer-group/2026-10-01
END:VEVENT
END:VCALENDAR
