BEGIN:VCALENDAR
VERSION:2.0
PRODID:icalendar-ruby
CALSCALE:GREGORIAN
METHOD:PUBLISH
BEGIN:VEVENT
DTSTAMP:20260424T220730Z
UID:62-293884@newsong.family
DTSTART:20261022T230000Z
DTEND:20261023T010000Z
CLASS:PUBLIC
CREATED:20260424T155354
DESCRIPTION:Please contact Ashley McGone or Mike Spurlock
LAST-MODIFIED:20260424T155354
LOCATION:Zoom Meeting
SUMMARY:Prayer Group
URL;VALUE=URI:https://www.newsong.family/events/prayer-group/2026-10-22
END:VEVENT
END:VCALENDAR
