BEGIN:VCALENDAR
VERSION:2.0
PRODID:icalendar-ruby
CALSCALE:GREGORIAN
METHOD:PUBLISH
BEGIN:VEVENT
DTSTAMP:20260425T012946Z
UID:62-294303@newsong.family
DTSTART:20261106T000000Z
DTEND:20261106T020000Z
CLASS:PUBLIC
CREATED:20260424T184142
DESCRIPTION:Please contact Ashley McGone or Mike Spurlock
LAST-MODIFIED:20260424T184142
LOCATION:Zoom Meeting
SUMMARY:Prayer Group
URL;VALUE=URI:https://www.newsong.family/events/prayer-group/2026-11-05
END:VEVENT
END:VCALENDAR
