BEGIN:VCALENDAR
VERSION:2.0
PRODID:icalendar-ruby
CALSCALE:GREGORIAN
METHOD:PUBLISH
BEGIN:VEVENT
DTSTAMP:20260424T172903Z
UID:63-293523@newsong.family
DTSTART:20260924T230000Z
DTEND:20260925T010000Z
CLASS:PUBLIC
CREATED:20260424T130713
DESCRIPTION:
LAST-MODIFIED:20260424T130713
LOCATION:McGlone Home
SUMMARY:Small Group Fellowship
URL;VALUE=URI:https://www.newsong.family/events/small-group-fellowship/2026
 -09-24
END:VEVENT
END:VCALENDAR
