BEGIN:VCALENDAR
VERSION:2.0
PRODID:icalendar-ruby
CALSCALE:GREGORIAN
METHOD:PUBLISH
BEGIN:VEVENT
DTSTAMP:20260424T185453Z
UID:63-293524@newsong.family
DTSTART:20261001T230000Z
DTEND:20261002T010000Z
CLASS:PUBLIC
CREATED:20260424T130713
DESCRIPTION:
LAST-MODIFIED:20260424T130713
LOCATION:McGlone Home
SUMMARY:Small Group Fellowship
URL;VALUE=URI:https://www.newsong.family/events/small-group-fellowship/2026
 -10-01
END:VEVENT
END:VCALENDAR
