BEGIN:VCALENDAR
VERSION:2.0
PRODID:icalendar-ruby
CALSCALE:GREGORIAN
METHOD:PUBLISH
BEGIN:VEVENT
DTSTAMP:20260424T215113Z
UID:63-293943@newsong.family
DTSTART:20261015T230000Z
DTEND:20261016T010000Z
CLASS:PUBLIC
CREATED:20260424T155355
DESCRIPTION:
LAST-MODIFIED:20260424T155355
LOCATION:McGlone Home
SUMMARY:Small Group Fellowship
URL;VALUE=URI:https://www.newsong.family/events/small-group-fellowship/2026
 -10-15
END:VEVENT
END:VCALENDAR
