BEGIN:VCALENDAR
VERSION:2.0
PRODID:icalendar-ruby
CALSCALE:GREGORIAN
METHOD:PUBLISH
BEGIN:VEVENT
DTSTAMP:20260425T004403Z
UID:63-294362@newsong.family
DTSTART:20261029T230000Z
DTEND:20261030T010000Z
CLASS:PUBLIC
CREATED:20260424T184143
DESCRIPTION:
LAST-MODIFIED:20260424T184143
LOCATION:McGlone Home
SUMMARY:Small Group Fellowship
URL;VALUE=URI:https://www.newsong.family/events/small-group-fellowship/2026
 -10-29
END:VEVENT
END:VCALENDAR
