BEGIN:VCALENDAR
VERSION:2.0
PRODID:icalendar-ruby
CALSCALE:GREGORIAN
METHOD:PUBLISH
BEGIN:VEVENT
DTSTAMP:20260425T021912Z
UID:63-294780@newsong.family
DTSTART:20261106T000000Z
DTEND:20261106T020000Z
CLASS:PUBLIC
CREATED:20260424T213010
DESCRIPTION:
LAST-MODIFIED:20260424T213010
LOCATION:McGlone Home
SUMMARY:Small Group Fellowship
URL;VALUE=URI:https://www.newsong.family/events/small-group-fellowship/2026
 -11-05
END:VEVENT
END:VCALENDAR
