BEGIN:VCALENDAR
VERSION:2.0
PRODID:icalendar-ruby
CALSCALE:GREGORIAN
METHOD:PUBLISH
BEGIN:VEVENT
DTSTAMP:20260424T133609Z
UID:72-292864@newsong.family
DTSTART:20260906T140000Z
DTEND:20260906T153000Z
CLASS:PUBLIC
CREATED:20260424T072450
DESCRIPTION:Come join our praise\, worship and teaching from God's word. 
LAST-MODIFIED:20260424T072450
LOCATION:New Song Community Church
SUMMARY:Sunday Service
URL;VALUE=URI:https://www.newsong.family/events/sunday-service/2026-09-06
END:VEVENT
END:VCALENDAR
