BEGIN:VCALENDAR
VERSION:2.0
PRODID:icalendar-ruby
CALSCALE:GREGORIAN
METHOD:PUBLISH
BEGIN:VEVENT
DTSTAMP:20260424T151353Z
UID:72-293282@newsong.family
DTSTART:20260913T140000Z
DTEND:20260913T153000Z
CLASS:PUBLIC
CREATED:20260424T101841
DESCRIPTION:Come join our praise\, worship and teaching from God's word. 
LAST-MODIFIED:20260424T101841
LOCATION:New Song Community Church
SUMMARY:Sunday Service
URL;VALUE=URI:https://www.newsong.family/events/sunday-service/2026-09-13
END:VEVENT
END:VCALENDAR
