BEGIN:VCALENDAR
VERSION:2.0
PRODID:icalendar-ruby
CALSCALE:GREGORIAN
METHOD:PUBLISH
BEGIN:VEVENT
DTSTAMP:20260424T182442Z
UID:72-293701@newsong.family
DTSTART:20260927T140000Z
DTEND:20260927T153000Z
CLASS:PUBLIC
CREATED:20260424T130713
DESCRIPTION:Come join our praise\, worship and teaching from God's word. 
LAST-MODIFIED:20260424T130713
LOCATION:New Song Community Church
SUMMARY:Sunday Service
URL;VALUE=URI:https://www.newsong.family/events/sunday-service/2026-09-27
END:VEVENT
END:VCALENDAR
