BEGIN:VCALENDAR
VERSION:2.0
PRODID:icalendar-ruby
CALSCALE:GREGORIAN
METHOD:PUBLISH
BEGIN:VEVENT
DTSTAMP:20260425T002537Z
UID:72-294539@newsong.family
DTSTART:20261025T140000Z
DTEND:20261025T153000Z
CLASS:PUBLIC
CREATED:20260424T184143
DESCRIPTION:Come join our praise\, worship and teaching from God's word. 
LAST-MODIFIED:20260424T184143
LOCATION:New Song Community Church
SUMMARY:Sunday Service
URL;VALUE=URI:https://www.newsong.family/events/sunday-service/2026-10-25
END:VEVENT
END:VCALENDAR
