BEGIN:VCALENDAR
VERSION:2.0
PRODID:icalendar-ruby
CALSCALE:GREGORIAN
METHOD:PUBLISH
BEGIN:VEVENT
DTSTAMP:20260424T183422Z
UID:60-293404@newsong.family
DTSTART:20260930T230000Z
DTEND:20261001T010000Z
CLASS:PUBLIC
CREATED:20260424T130712
DESCRIPTION:
LAST-MODIFIED:20260424T130712
LOCATION:McCullouch or Bryant Home
SUMMARY:Women of Worth
URL;VALUE=URI:https://www.newsong.family/events/women-of-worth/2026-09-30
END:VEVENT
END:VCALENDAR
