BEGIN:VCALENDAR
VERSION:2.0
PRODID:icalendar-ruby
CALSCALE:GREGORIAN
METHOD:PUBLISH
BEGIN:VEVENT
DTSTAMP:20260424T224122Z
UID:60-293824@newsong.family
DTSTART:20261021T230000Z
DTEND:20261022T010000Z
CLASS:PUBLIC
CREATED:20260424T155354
DESCRIPTION:
LAST-MODIFIED:20260424T155354
LOCATION:McCullouch or Bryant Home
SUMMARY:Women of Worth
URL;VALUE=URI:https://www.newsong.family/events/women-of-worth/2026-10-21
END:VEVENT
END:VCALENDAR
