BEGIN:VCALENDAR
VERSION:2.0
PRODID:icalendar-ruby
CALSCALE:GREGORIAN
METHOD:PUBLISH
BEGIN:VEVENT
DTSTAMP:20260425T015957Z
UID:60-294660@newsong.family
DTSTART:20261105T000000Z
DTEND:20261105T020000Z
CLASS:PUBLIC
CREATED:20260424T213009
DESCRIPTION:
LAST-MODIFIED:20260424T213009
LOCATION:McCullouch or Bryant Home
SUMMARY:Women of Worth
URL;VALUE=URI:https://www.newsong.family/events/women-of-worth/2026-11-04
END:VEVENT
END:VCALENDAR
